BEGIN:VCALENDAR
VERSION:2.0
PRODID:-//Direcția Managementul Cercetării Științifice - ECPv6.3.1//NONSGML v1.0//EN
CALSCALE:GREGORIAN
METHOD:PUBLISH
X-WR-CALNAME:Direcția Managementul Cercetării Științifice
X-ORIGINAL-URL:https://cercetare.ubbcluj.ro
X-WR-CALDESC:Events for Direcția Managementul Cercetării Științifice
REFRESH-INTERVAL;VALUE=DURATION:PT1H
X-Robots-Tag:noindex
X-PUBLISHED-TTL:PT1H
BEGIN:VTIMEZONE
TZID:UTC
BEGIN:STANDARD
TZOFFSETFROM:+0000
TZOFFSETTO:+0000
TZNAME:UTC
DTSTART:20260101T000000
END:STANDARD
END:VTIMEZONE
BEGIN:VEVENT
DTSTART;TZID=UTC:20260421T180000
DTEND;TZID=UTC:20260421T200000
DTSTAMP:20260422T010542
CREATED:20260421T073928Z
LAST-MODIFIED:20260421T073928Z
UID:21851-1776794400-1776801600@cercetare.ubbcluj.ro
SUMMARY:Istoria Crizelor Economice. Cum frauda\, ignoranța și iluzia au modelat economia timp de patru secole
DESCRIPTION:Facultatea de Istorie și Filosofie din cadrul Universității Babeș-Bolyai prin Departamentul de Studii Internationale și Istorie Contemporană\, vă invită la lansarea volumului – Istoria Crizelor Economice. Cum frauda\, ignoranța și iluzia au modelat economia timp de patru secole\, autor Dl. Marius Mureșan\, expert financiar internațional și fost trader pe Wall Street.
URL:https://cercetare.ubbcluj.ro/event/istoria-crizelor-economice-cum-frauda-ignoranta-si-iluzia-au-modelat-economia-timp-de-patru-secole/
LOCATION:Facultatea de Istorie și Filosofie\, aula Regele Ferdinand I\, str. Napoca nr. 11\, Cluj-Napoca
ATTACH;FMTTYPE=image/jpeg:https://cercetare.ubbcluj.ro/wp-content/uploads/2026/04/Lansare-de-carte_21aprilie-2026.jpg
END:VEVENT
BEGIN:VEVENT
DTSTART;TZID=UTC:20260421T160000
DTEND;TZID=UTC:20260421T190000
DTSTAMP:20260422T010542
CREATED:20260416T100506Z
LAST-MODIFIED:20260416T100506Z
UID:21809-1776787200-1776798000@cercetare.ubbcluj.ro
SUMMARY:Statutul Lucrătorului Cultural Profesionist
DESCRIPTION:Masteratul de Management și Antreprenoriat Cultural din cadrul Facultății de Teatru și Film în parteneriat cu Asociația Studenților Facultății de Teatru și Film\, vă invită la evenimentul – Statutul Lucrătorului Cultural Profesionist\, cu Dna. Iulia Popovici\, critic și curator de artele spectacolului.
URL:https://cercetare.ubbcluj.ro/event/statutul-lucratorului-cultural-profesionist/
LOCATION:Facultatea de Teatru și Film\, Amfiteatru\, Str. Burebista nr. 2\, Cluj-Napoca
ATTACH;FMTTYPE=image/jpeg:https://cercetare.ubbcluj.ro/wp-content/uploads/2026/04/Statutul-Lucratorului-cultural.jpg
END:VEVENT
BEGIN:VEVENT
DTSTART;TZID=UTC:20260421T150000
DTEND;TZID=UTC:20260421T190000
DTSTAMP:20260422T010542
CREATED:20260416T095140Z
LAST-MODIFIED:20260416T095140Z
UID:21796-1776783600-1776798000@cercetare.ubbcluj.ro
SUMMARY:Împotriva propriului oraș. 21 decembrie 1989 în Cluj-Napoca
DESCRIPTION:Institutul de Istorie Orală al Facultății de Istorie și Filosofie\, Universitatea Babeș-Bolyai și Biblioteca Centrală Universitară Lucian Blaga din Cluj-Napoca vă invită la proiecția filmului documentar – Împotriva propriului oraș. 21 decembrie 1989 în Cluj-Napoca . \nPrima parte a filmului documentar va fi difuzată cu începere de la ora 15.00\, iar partea a II-a va putea fi vizionată începând cu ora 17.00. Proiecția va fi urmată de o dezbatere pe tema evenimentelor petrecute pe străzile orașului Cluj-Napoca în decembrie 1989. Accesul la eveniment este gratuit\, în limita locurilor disponibile.
URL:https://cercetare.ubbcluj.ro/event/impotriva-propriului-oras-21-decembrie-1989-in-cluj-napoca-2/
LOCATION:Cinema Dacia\, Str. Bucegi nr. 11B\, Cluj-Napoca
ATTACH;FMTTYPE=image/jpeg:https://cercetare.ubbcluj.ro/wp-content/uploads/2026/04/proiectie-film.jpg
END:VEVENT
BEGIN:VEVENT
DTSTART;TZID=UTC:20260420T100000
DTEND;TZID=UTC:20260420T120000
DTSTAMP:20260422T010542
CREATED:20260420T130649Z
LAST-MODIFIED:20260420T130649Z
UID:21829-1776679200-1776686400@cercetare.ubbcluj.ro
SUMMARY:The Baltic Sea Region As An Example Of New Regionalism
DESCRIPTION:Facultatea de Studii Europene vă invită la prelegerea susținută de Dl. prof. Tomasz Brańka\, Adam Mickiewicz University\, Poznan.
URL:https://cercetare.ubbcluj.ro/event/the-baltic-sea-region-as-an-example-of-new-regionalism/
LOCATION:Facultatea de Studii Europene\, sala Ferdinand\, Str. I. C. Brătianu nr. 22\, Cluj-Napoca
ATTACH;FMTTYPE=image/jpeg:https://cercetare.ubbcluj.ro/wp-content/uploads/2026/04/THE-BALTIC-SEA-REGION-.jpeg
END:VEVENT
BEGIN:VEVENT
DTSTART;TZID=UTC:20260417T140000
DTEND;TZID=UTC:20260417T160000
DTSTAMP:20260422T010542
CREATED:20260407T091339Z
LAST-MODIFIED:20260407T091339Z
UID:21741-1776434400-1776441600@cercetare.ubbcluj.ro
SUMMARY:Workshop despre utilizarea dronelor în știința participativă
DESCRIPTION:Centrul de Geografie Regională din cadrul Facultății de Geografie\, Universitatea Babeș-Bolyai\, împreună cu Centrul de Cercetări Geografice al Academiei Române filiala Cluj-Napoca\, în parteneriat cu Primăria Aiton\, vă invită la un workshop dedicat utilizării dronelor în știința cetățenească. Participanții vor afla despre beneficiile dronelor și ale imaginilor aeriene în știința participativă\, precum și despre drepturile și obligațiile cetățenilor în legătură cu datele aeriene colectate.
URL:https://cercetare.ubbcluj.ro/event/workshop-despre-utilizarea-dronelor-in-stiinta-participativa/
LOCATION:Căminul Cultural Nicolae Bondoi\, Aiton\, Aiton
ATTACH;FMTTYPE=image/jpeg:https://cercetare.ubbcluj.ro/wp-content/uploads/2026/04/Workshop_17-aprilie.jpg
END:VEVENT
BEGIN:VEVENT
DTSTART;TZID=UTC:20260417T110000
DTEND;TZID=UTC:20260417T130000
DTSTAMP:20260422T010542
CREATED:20260416T100018Z
LAST-MODIFIED:20260416T100018Z
UID:21804-1776423600-1776430800@cercetare.ubbcluj.ro
SUMMARY:Pirații plasticului merg la plajă
DESCRIPTION:Universitatea Babeș-Bolyai\, prin Facultatea de Știința și Ingineria Mediului continuă implementarea în România a inițiativei europene de știință participativă – Plastic Pirates printr-o nouă acțiune de cercetare. Evenimentul\, coordonat de Facultatea de Știința și Ingineria Mediului\, implică elevi de la Liceul Teoretic Dumitru Tăuțan Florești și de la Colegiul Ortodox Mitropolitul Nicolae Colan Cluj-Napoca\, care vor desfășura activități standardizate de prelevare și analiză a particulelor de macro- și microplastic de pe plajă\, conform metodologiei europene Plastic Pirates. \nEvenimentul face parte dintr-o serie de acțiuni dedicate lunii aprilie\, luna științei participative\, un demers internațional (April Citizen Science Month)\, marcat pentru prima dată în România la inițiativa Oficiului pentru Știință Deschisă din cadrul Universității Babeș-Bolyai.
URL:https://cercetare.ubbcluj.ro/event/piratii-plasticului-merg-la-plaja/
LOCATION:Plaja Grigorescu\, pe malul Someșului Mic\, Cluj-Napoca
ATTACH;FMTTYPE=image/png:https://cercetare.ubbcluj.ro/wp-content/uploads/2026/04/Piratii-Plasticului-17-aprilie.png
END:VEVENT
BEGIN:VEVENT
DTSTART;TZID=UTC:20260416T180000
DTEND;TZID=UTC:20260416T200000
DTSTAMP:20260422T010542
CREATED:20260416T094423Z
LAST-MODIFIED:20260416T094423Z
UID:21793-1776362400-1776369600@cercetare.ubbcluj.ro
SUMMARY:Flori din grădina mea – 102 ani de la nașterea lui Constantin Gruescu
DESCRIPTION:Direcția Patrimoniu Cultural Universitar din cadrul Universității Babeș-Bolyai\, prin Muzeul Florilor de Mină UBB Reșița\, în parteneriat cu Centrul Universitar UBB Reșița și Biblioteca Germană Alexander Tietz\, vă invită la evenimentul – Flori din grădina mea – 102 ani de la nașterea lui Constantin Gruescu. \nConstantin Gruescu a fost un pasionat colecționar și mineralog a cărui activitate și generozitate au stat la baza constituirii Muzeului Florilor de Mină din Reșița. Prin donația sa\, o colecție valoroasă de minerale a fost pusă la dispoziția comunității\, transformând pasiunea personală într-un patrimoniu cultural și științific accesibil publicului larg. Demersul își dorește să aducă în prim-plan atât frumusețea lumii minerale\, cât și importanța păstrării memoriei celor care au contribuit la dezvoltarea acesteia.
URL:https://cercetare.ubbcluj.ro/event/flori-din-gradina-mea-102-ani-de-la-nasterea-lui-constantin-gruescu/
LOCATION:Centrul Universitar UBB din Reșița\, Piața Traian Vuia nr. 1-4\, Reșița
ATTACH;FMTTYPE=image/jpeg:https://cercetare.ubbcluj.ro/wp-content/uploads/2026/04/Muzeul-Florilor-de-mina.jpg
END:VEVENT
BEGIN:VEVENT
DTSTART;TZID=UTC:20260415T090000
DTEND;TZID=UTC:20260415T173000
DTSTAMP:20260422T010542
CREATED:20260408T094957Z
LAST-MODIFIED:20260408T094957Z
UID:21766-1776243600-1776274200@cercetare.ubbcluj.ro
SUMMARY:Un’amicizia duratura. Le relazioni tra Romania e Italia dall’età moderna ad oggi
DESCRIPTION:Universitatea Babeș-Bolyai din Cluj-Napoca în colaborare cu Universitatea Roma Tre\, cu sprijinul Ambasadei României în Italia organizează conferința științifică internațională în cadrul Anului Cultural România-Italia 2026.
URL:https://cercetare.ubbcluj.ro/event/unamicizia-duratura-le-relazioni-tra-romania-e-italia-dalleta-moderna-ad-oggi/
LOCATION:Ambasada României în Italia\, Via Nicolo Tartaglia\, 40\, Roma
ATTACH;FMTTYPE=image/png:https://cercetare.ubbcluj.ro/wp-content/uploads/2026/04/UNAMICIZIA-DURATURA.png
END:VEVENT
BEGIN:VEVENT
DTSTART;TZID=UTC:20260409T180000
DTEND;TZID=UTC:20260409T193000
DTSTAMP:20260422T010542
CREATED:20260407T092002Z
LAST-MODIFIED:20260407T092002Z
UID:21749-1775757600-1775763000@cercetare.ubbcluj.ro
SUMMARY:Programul de Artă Contemporană BT 2025 – tur ghidat
DESCRIPTION:Contemporar vă invită la un tur ghidat al expoziției lucrărilor selectate în Programul de Artă Contemporană BT 2025\, susținut de Dl. Sergiu Man\, cercetător doctorand și curator în cadrul Universității Babeș-Bolyai. Expoziția reunește 15 lucrări semnate de artiști locali și explorează legătura dintre imagine\, memorie și experiența personală.
URL:https://cercetare.ubbcluj.ro/event/programul-de-arta-contemporana-bt-2025-tur-ghidat/
LOCATION:Contemporar\, Str. Mihail Kogălniceanu nr. 5\, Cluj-Napoca
ATTACH;FMTTYPE=image/jpeg:https://cercetare.ubbcluj.ro/wp-content/uploads/2026/04/Contemporar_9-aprilie.jpeg
END:VEVENT
BEGIN:VEVENT
DTSTART;TZID=UTC:20260409T160000
DTEND;TZID=UTC:20260409T180000
DTSTAMP:20260422T010542
CREATED:20260407T093253Z
LAST-MODIFIED:20260407T093253Z
UID:21758-1775750400-1775757600@cercetare.ubbcluj.ro
SUMMARY:Teoria sistemelor\, ingineria și controlul proceselor -  cooperând pentru o societate durabilă
DESCRIPTION:Institutul STAR-UBB din cadrul Universității Babeș-Bolyai continuă seria de cursuri și prelegeri Studium Generale\, găzduită de Turnul Croitorilor\, cu o prelegere susținută de Dl. prof. dr. ing. Paul Șerban Agachi\, profesor emerit al UBB.
URL:https://cercetare.ubbcluj.ro/event/teoria-sistemelor-ingineria-si-controlul-proceselor-cooperand-pentru-o-societate-durabila/
LOCATION:Turnul Croitorilor\, str. Baba Novac nr. 35\, Cluj-Napoca
ATTACH;FMTTYPE=image/jpeg:https://cercetare.ubbcluj.ro/wp-content/uploads/2026/04/turnul_croitorilor_.jpg
END:VEVENT
BEGIN:VEVENT
DTSTART;TZID=UTC:20260408T180000
DTEND;TZID=UTC:20260408T200000
DTSTAMP:20260422T010542
CREATED:20260407T091648Z
LAST-MODIFIED:20260407T091648Z
UID:21746-1775671200-1775678400@cercetare.ubbcluj.ro
SUMMARY:Concert Vocal-Simfonic de Paște
DESCRIPTION:Corala Universitarilor Clujeni a Universității Babeș-Bolyai vă invită la Concert Vocal-Simfonic de Paște .
URL:https://cercetare.ubbcluj.ro/event/concert-vocal-simfonic-de-paste/
LOCATION:Auditorium Maximum\, str. M. Kogălniceanu nr. 5\, Cluj-Napoca
ATTACH;FMTTYPE=image/jpeg:https://cercetare.ubbcluj.ro/wp-content/uploads/2026/04/afis-PASTI-2026.jpg
END:VEVENT
BEGIN:VEVENT
DTSTART;TZID=UTC:20260408T140000
DTEND;TZID=UTC:20260408T180000
DTSTAMP:20260422T010542
CREATED:20260312T081707Z
LAST-MODIFIED:20260312T081707Z
UID:21383-1775656800-1775671200@cercetare.ubbcluj.ro
SUMMARY:IaaS\, Private Cloud and Virtualization
DESCRIPTION:Facultatea de Matematică și Informatică invită studenții la prelegerea susținută de Dl. Tudor Damian\, Microsoft MVP and ethical hacker.
URL:https://cercetare.ubbcluj.ro/event/iaas-private-cloud-and-virtualization/
LOCATION:Facultatea de Matematică și Informatică\, str. M. Kogălniceanu nr. 1\, Cluj-Napoca
END:VEVENT
BEGIN:VEVENT
DTSTART;TZID=UTC:20260408T140000
DTEND;TZID=UTC:20260408T160000
DTSTAMP:20260422T010542
CREATED:20260407T092622Z
LAST-MODIFIED:20260407T092622Z
UID:21752-1775656800-1775664000@cercetare.ubbcluj.ro
SUMMARY:Crizele și tentația autoritaristă
DESCRIPTION:Universitatea Babeș-Bolyai găzduiește lansarea volumului cu titlul – Crizele și tentația autoritaristă\, autor Acad. Daniel Dăianu\, președintele Consiliului fiscal al României. Volumul va fi prezentat de Dl. prof. univ. dr. Vasile Pușcaș și de Dl. conf. univ. dr. Răzvan Mustață.
URL:https://cercetare.ubbcluj.ro/event/crizele-si-tentatia-autoritarista/
LOCATION:Casa Universitarilor\, sala Club\, str. Emmanuel de Martonne\, nr. 1\, Cluj-Napoca
ATTACH;FMTTYPE=image/jpeg:https://cercetare.ubbcluj.ro/wp-content/uploads/2026/04/Lansare-volum_daniel-Daianu.jpeg
END:VEVENT
BEGIN:VEVENT
DTSTART;TZID=UTC:20260408T120000
DTEND;TZID=UTC:20260408T140000
DTSTAMP:20260422T010542
CREATED:20260407T092914Z
LAST-MODIFIED:20260407T092914Z
UID:21755-1775649600-1775656800@cercetare.ubbcluj.ro
SUMMARY:Fondurile europene în România
DESCRIPTION:Fundația Universității Babeș-Bolyai vă invită la o nouă întâlnire în cadrul programului Universitatea vârstei a 3-a. Prelegerea va fi susținută de Dl. drd. Teodor Ioan Hodor\, Facultatea de Studii Europene.
URL:https://cercetare.ubbcluj.ro/event/fondurile-europene-in-romania/
LOCATION:Amfiteatrul Simone Veil\, Str. Emmanuel de Martonne nr. 1\, Cluj-Napoca
ATTACH;FMTTYPE=image/jpeg:https://cercetare.ubbcluj.ro/wp-content/uploads/2026/04/U3a_8-aprilie-2026.jpg
END:VEVENT
BEGIN:VEVENT
DTSTART;TZID=UTC:20260407T130000
DTEND;TZID=UTC:20260407T143000
DTSTAMP:20260422T010542
CREATED:20260402T062242Z
LAST-MODIFIED:20260402T062242Z
UID:21690-1775566800-1775572200@cercetare.ubbcluj.ro
SUMMARY:Seminar de Perfecționare Vocațională SmartFIN@ISF
DESCRIPTION:Facultatea de Științe Economice și Gestiunea Afacerilor în parteneriat cu Institutul de Studii Financiare vă invită la Seminarul de Perfecționare Vocațională SmartFIN@ISF. Evenimentul oferă participanților oportunitatea de a explora teme relevante din domeniul pieței de capital\, prin prezentări susținute de specialiști din industrie. Participarea necesită înscriere prealabilă.
URL:https://cercetare.ubbcluj.ro/event/seminar-de-perfectionare-vocationala-smartfinisf/
LOCATION:On-line\, Zoom
ATTACH;FMTTYPE=image/png:https://cercetare.ubbcluj.ro/wp-content/uploads/2026/04/Afis-FSEGA.png
END:VEVENT
BEGIN:VEVENT
DTSTART;TZID=UTC:20260403T180000
DTEND;TZID=UTC:20260403T200000
DTSTAMP:20260422T010542
CREATED:20260402T061221Z
LAST-MODIFIED:20260402T061221Z
UID:21685-1775239200-1775246400@cercetare.ubbcluj.ro
SUMMARY:Weltanschauung as a Strategy for Popular Philosophy
DESCRIPTION:Facultatea de Istorie și Filosofie prin Centrul de Filosofie Aplicată și Asociația pentru Promovarea Filosofiei vă invită la conferința – Weltanschauung as a Strategy for Popular Philosophy\, susținută de Dl. prof. Michael S. Jones\, Liberty University SUA & Universitatea Lucian Blaga din Sibiu.
URL:https://cercetare.ubbcluj.ro/event/weltanschauung-as-a-strategy-for-popular-philosophy/
LOCATION:Facultatea de Istorie și Filosofie\, sala 132 D.D.Roșca
ATTACH;FMTTYPE=image/png:https://cercetare.ubbcluj.ro/wp-content/uploads/2026/04/Michael.S_3-aprilie.png
END:VEVENT
BEGIN:VEVENT
DTSTART;TZID=UTC:20260403T123000
DTEND;TZID=UTC:20260403T170000
DTSTAMP:20260422T010542
CREATED:20260312T092635Z
LAST-MODIFIED:20260312T092635Z
UID:21430-1775219400-1775235600@cercetare.ubbcluj.ro
SUMMARY:Pedagogia diferențierii - resemnificări conceptuale și praxiologice actuale
DESCRIPTION:Departamentul de Științe ale Educației din cadrul Facultății de Psihologie și Științe ale Educației vă invită la conferința – Pedagogia diferențierii – resemnificări conceptuale și praxiologice actuale\, organizată la Centrul Universitar UBB din Reșița. Evenimentul se adresează cadrelor didactice din învățământul universitar și preuniversitar\, studenților\, precum și tuturor celor interesați să exploreze și să își îmbunătățească practicile pedagogice în conformitate cu principiile diferențierii și inclusivității.
URL:https://cercetare.ubbcluj.ro/event/pedagogia-diferentierii-resemnificari-conceptuale-si-praxiologice-actuale-3/
LOCATION:Centrul Universitar UBB Reșița Aula Eftimie Murgu\, Piața Traian Vuia nr. 1-4\, Reșița
ATTACH;FMTTYPE=image/png:https://cercetare.ubbcluj.ro/wp-content/uploads/2026/03/2026-resita.png
END:VEVENT
BEGIN:VEVENT
DTSTART;TZID=UTC:20260403T110000
DTEND;TZID=UTC:20260403T130000
DTSTAMP:20260422T010542
CREATED:20260319T105803Z
LAST-MODIFIED:20260319T105803Z
UID:21557-1775214000-1775221200@cercetare.ubbcluj.ro
SUMMARY:Aparatul politic și structurile de informații în decembrie 1989 și politizarea acestora în prima decadă postdecembristă
DESCRIPTION:Teză de doctorat în domeniul Istorie\, autor Găină Toader-Sorinel. Susținere publică.
URL:https://cercetare.ubbcluj.ro/event/aparatul-politic-si-structurile-de-informatii-in-decembrie-1989-si-politizarea-acestora-in-prima-decada-postdecembrista/
LOCATION:Facultatea de Istorie și Filosofie\, aula Regele Ferdinand I\, str. Napoca nr. 11\, Cluj-Napoca
END:VEVENT
BEGIN:VEVENT
DTSTART;TZID=UTC:20260403T090000
DTEND;TZID=UTC:20260403T110000
DTSTAMP:20260422T010542
CREATED:20260319T110137Z
LAST-MODIFIED:20260319T110137Z
UID:21559-1775206800-1775214000@cercetare.ubbcluj.ro
SUMMARY:Arhivele Statului din Iași 1832-1948
DESCRIPTION:Teză de doctorat în domeniul Istorie\, autor Lungu Emanuela. Susținere publică.
URL:https://cercetare.ubbcluj.ro/event/arhivele-statului-din-iasi-1832-1948/
LOCATION:Facultatea de Istorie și Filosofie\, sala 310\, Str. Mihail Kogălniceanu nr. 1\, Cluj-Napoca
END:VEVENT
BEGIN:VEVENT
DTSTART;TZID=UTC:20260402T170000
DTEND;TZID=UTC:20260402T190000
DTSTAMP:20260422T010542
CREATED:20260402T054256Z
LAST-MODIFIED:20260402T054256Z
UID:21661-1775149200-1775156400@cercetare.ubbcluj.ro
SUMMARY:If It's April\, It's Shakespeare
DESCRIPTION:Departamentul de Studii Anglofone și Scandinave din cadrul Facultății de Litere vă invită la evenimentele din seria – If It’s April\, It’s Shakespeare\, dedicate operei marelui dramaturg englez William Shakespeare. Parteneri în acest eveniment sunt Teatrul Național Cluj-Napoca\, Biblioteca Centrală Universitară Lucian Blaga și Colegiul Național Emil Racoviță.
URL:https://cercetare.ubbcluj.ro/event/if-its-april-its-shakespeare/
LOCATION:Facultatea de Litere\, sala de lectură a bibliotecii română-maghiară
ATTACH;FMTTYPE=image/jpeg:https://cercetare.ubbcluj.ro/wp-content/uploads/2026/04/If-its-April-its-Shakespeare-.jpg
END:VEVENT
BEGIN:VEVENT
DTSTART;TZID=UTC:20260402T170000
DTEND;TZID=UTC:20260402T183000
DTSTAMP:20260422T010542
CREATED:20260402T063135Z
LAST-MODIFIED:20260402T063135Z
UID:21696-1775149200-1775154600@cercetare.ubbcluj.ro
SUMMARY:How Bacteria Make Cell Walls: from Penicillin-Sensitive Proteins to Shape\, Elongation\, Division and Sporulation Complexes
DESCRIPTION:Facultatea de Științe Medicale și ale Sănătății în colaborare cu Facultatea de Chimie și Inginerie Chimică și Centrul de Enzimologie și Biocataliză Aplicată vă invită la prelegerea susținută de Dl. prof. David Roper\, Universitatea din Warwick.
URL:https://cercetare.ubbcluj.ro/event/how-bacteria-make-cell-walls-from-penicillin-sensitive-proteins-to-shape-elongation-division-and-sporulation-complexes/
LOCATION:Facultatea de Biologie și Geologie\, Amfiteatrul de fiziologie Animală E. Pora\, Clinicilor nr. 5-7\, Cluj-Napoca
ATTACH;FMTTYPE=image/jpeg:https://cercetare.ubbcluj.ro/wp-content/uploads/2026/04/FSMS_Prof-David-Roper-.jpg
END:VEVENT
BEGIN:VEVENT
DTSTART;TZID=UTC:20260402T160000
DTEND;TZID=UTC:20260402T180000
DTSTAMP:20260422T010542
CREATED:20260326T114409Z
LAST-MODIFIED:20260326T122619Z
UID:21632-1775145600-1775152800@cercetare.ubbcluj.ro
SUMMARY:Despre imagini și circulația lor în limbajele transformării interioare
DESCRIPTION:Institutul STAR-UBB din cadrul Universității Babeș-Bolyai continuă seria de cursuri și prelegeri Studium Generale\, găzduită de Turnul Croitorilor\, cu o prelegere susținută de Dna. prof. univ. dr. Georgiana Huian\, Universitatea din Berna.
URL:https://cercetare.ubbcluj.ro/event/despre-imagini-si-circulatia-lor-in-limbajele-transformarii-interioare/
LOCATION:Online
ATTACH;FMTTYPE=image/jpeg:https://cercetare.ubbcluj.ro/wp-content/uploads/2026/03/turnul_croitorilor_2-aprilie.jpg
END:VEVENT
BEGIN:VEVENT
DTSTART;TZID=UTC:20260402T160000
DTEND;TZID=UTC:20260402T170000
DTSTAMP:20260422T010542
CREATED:20260402T060855Z
LAST-MODIFIED:20260402T060855Z
UID:21682-1775145600-1775149200@cercetare.ubbcluj.ro
SUMMARY:Strategia pentru rețeaua verde-albastră metropolitană Cluj: Centura verde și coridoarele ecologice
DESCRIPTION:Centrul de Geografie Regională din cadrul Universității Babeș-Bolyai vă invită la un nou eveniment organizat în cadrul seriei – Întâlnirile CGR\, avându-i ca invitați pe dl. Adrian Răulea și Dna. Alexandrina Kiss\, reprezentanți ai Asociației de Dezvoltare Intercomunitară Zona Metropolitană Cluj. Evenimentul este dedicat tuturor celor interesați de problematica dezvoltării teritoriale și a planificării urbane sustenabile.
URL:https://cercetare.ubbcluj.ro/event/strategia-pentru-reteaua-verde-albastra-metropolitana-cluj-centura-verde-si-coridoarele-ecologice/
LOCATION:Centrul de Geografie Regională\, str. Clinicilor nr. 5-7\, Cluj-Napoca\, Cluj\, Select a State:\, 400469\, Romania
ATTACH;FMTTYPE=image/jpeg:https://cercetare.ubbcluj.ro/wp-content/uploads/2026/04/Afis-CGR-.jpg
END:VEVENT
BEGIN:VEVENT
DTSTART;TZID=UTC:20260402T150000
DTEND;TZID=UTC:20260402T170000
DTSTAMP:20260422T010542
CREATED:20260326T111120Z
LAST-MODIFIED:20260326T111120Z
UID:21605-1775142000-1775149200@cercetare.ubbcluj.ro
SUMMARY:Detectivii Poluării
DESCRIPTION:Universitatea Babeș-Bolyai prin Facultatea de Știința și Ingineria Mediului vă invită la concursul de știință\, dedicat elevilor și profesorilor – Detectivii Poluării. Concursul este organizat în cadrul proiectului național STEAM EXPERIENCE și vă provoacă să investigați probleme reale de mediu din propria comunitate. În acest concurs\, tu și echipa ta veți deveni investigatori ai calității mediului\, veți lucra ca o echipă de cercetare în miniatură\, folosind metode specifice domeniilor STEM. \nEtapa I – Webinar online\, primiți explicații despre tipurile de poluare\, metodologia de investigare și structura proiectului.
URL:https://cercetare.ubbcluj.ro/event/detectivii-poluarii/
LOCATION:Online
ATTACH;FMTTYPE=image/png:https://cercetare.ubbcluj.ro/wp-content/uploads/2026/03/STEAM-Experience.png
END:VEVENT
BEGIN:VEVENT
DTSTART;TZID=UTC:20260402T140000
DTEND;TZID=UTC:20260402T160000
DTSTAMP:20260422T010542
CREATED:20260402T061754Z
LAST-MODIFIED:20260402T061754Z
UID:21688-1775138400-1775145600@cercetare.ubbcluj.ro
SUMMARY:Explainable Artificial Intelligence in Prior Authorization: The New Shape of Care Delivery Decision-Making
DESCRIPTION:Facultatea de Științe Economice și Gestiunea Afacerilor vă invită la prezentarea suținută de Dl. Francesco Schiavone\, University Parthenope. Evenimentul se desfășoară în cadrul ediției de primăvară a Cluj Economics and Business Seminar Series (CEBSS). CEBSS\, inițiat și coordonat de către prof.univ.dr. Cristian Litan\, reprezintă un forum pentru dezbaterea și difuzarea rezultatelor cercetărilor științifice. Seria de seminare contribuie în mod semnificativ și distinctiv la creșterea valorii adăugate științifice\, având un impact relevant asupra cunoștințelor\, educației și practicilor din domeniul economiei și al afacerilor.
URL:https://cercetare.ubbcluj.ro/event/explainable-artificial-intelligence-in-prior-authorization-the-new-shape-of-care-delivery-decision-making/
LOCATION:Facultatea de Științe Economice și Gestiunea Afacerilor\, sala 118
END:VEVENT
BEGIN:VEVENT
DTSTART;TZID=UTC:20260402T100000
DTEND;TZID=UTC:20260402T123000
DTSTAMP:20260422T010542
CREATED:20260312T101742Z
LAST-MODIFIED:20260312T101742Z
UID:21448-1775124000-1775133000@cercetare.ubbcluj.ro
SUMMARY:Medicinal chemistry approaches to develop β-Lactamase inhibitors
DESCRIPTION:Teză de abilitare în domeniul Chimie\, candidat Brem Jürgen. Susținere publică.
URL:https://cercetare.ubbcluj.ro/event/medicinal-chemistry-approaches-to-develop-%ce%b2-lactamase-inhibitors/
LOCATION:Platforma INSPIRE\, Amfiteatru\, Str. Arany János nr. 11\, Cluj-Napoca
END:VEVENT
BEGIN:VEVENT
DTSTART;TZID=UTC:20260402T100000
DTEND;TZID=UTC:20260402T120000
DTSTAMP:20260422T010542
CREATED:20260326T113034Z
LAST-MODIFIED:20260326T113034Z
UID:21622-1775124000-1775131200@cercetare.ubbcluj.ro
SUMMARY:Rolul noii generații în digitalizarea instituțiilor publice
DESCRIPTION:Facultatea de Studii Europene din cadrul Universității Babeș-Bolyai vă invită la un nou eveniment organizat în cadrul seriei Întâlnirile FSE cu comunitatea\, avându-i ca invitați pe Dna. Diana Gligor și Dl. Dacian Puștea\, KNM România – Consultanță și proiectare fonduri europene
URL:https://cercetare.ubbcluj.ro/event/rolul-noii-generatii-in-digitalizarea-institutiilor-publice/
LOCATION:Facultatea de Studii Europene\, sala Ferdinand\, Str. I. C. Brătianu nr. 22\, Cluj-Napoca
ATTACH;FMTTYPE=image/jpeg:https://cercetare.ubbcluj.ro/wp-content/uploads/2026/03/Intalnirile-FSE-02.04.2026.jpg
END:VEVENT
BEGIN:VEVENT
DTSTART;TZID=UTC:20260401T170000
DTEND;TZID=UTC:20260402T200000
DTSTAMP:20260422T010542
CREATED:20260402T062629Z
LAST-MODIFIED:20260402T062629Z
UID:21693-1775062800-1775160000@cercetare.ubbcluj.ro
SUMMARY:Interpretarea Sfintei Scripturi în tradiția patristică și rabinică – repere și direcții de cercetare
DESCRIPTION:Facultatea de Teologie Ortodoxă vă invită la conferința biblică online ROOTS – Interpretarea Sfintei Scripturi în tradiția patristică și rabinică – repere și direcții de cercetare\, ediția a V-a.
URL:https://cercetare.ubbcluj.ro/event/interpretarea-sfintei-scripturi-in-traditia-patristica-si-rabinica-repere-si-directii-de-cercetare-2/
LOCATION:On-line\, Zoom
ATTACH;FMTTYPE=image/webp:https://cercetare.ubbcluj.ro/wp-content/uploads/2026/04/Roots-Aprilie-2026.webp
END:VEVENT
BEGIN:VEVENT
DTSTART;TZID=UTC:20260401T140000
DTEND;TZID=UTC:20260401T153000
DTSTAMP:20260422T010542
CREATED:20260319T075018Z
LAST-MODIFIED:20260319T075018Z
UID:21521-1775052000-1775057400@cercetare.ubbcluj.ro
SUMMARY:Fusion Talks by .msg
DESCRIPTION:UBB-FSEGA and .msg România invite you to the new edition of Fusion Talks – a series of interactive webinars. Featuring experts from Romania and Germany\, this edition explores how innovation reshapes organizations and what skills future business professionals need to succeed. In-person & online sessions offer students a unique opportunity to engage directly with industry professionals and prepare for the challenges of a dynamic business environment. Join us for the first talk of the season\, focused on how businesses adapt and innovate in times of constant change.
URL:https://cercetare.ubbcluj.ro/event/fusion-talks-by-msg-2/
LOCATION:Facultatea de Științe Economice și Gestiunea Afacerilor\, sala 114\, Str. Teodor Mihali nr. 58-60\, Cluj-Napoca
ATTACH;FMTTYPE=image/png:https://cercetare.ubbcluj.ro/wp-content/uploads/2026/03/Lavinia-New.png
END:VEVENT
BEGIN:VEVENT
DTSTART;TZID=UTC:20260401T130000
DTEND;TZID=UTC:20260401T140000
DTSTAMP:20260422T010542
CREATED:20260319T095539Z
LAST-MODIFIED:20260319T095539Z
UID:21544-1775048400-1775052000@cercetare.ubbcluj.ro
SUMMARY:Povestea junglei prin ochii biologului
DESCRIPTION:Facultatea de Biologie și Geologie vă invită la conferința – Povestea junglei prin ochii biologului\, susținută de Dl. lector dr. Alexandru N. Stermin.
URL:https://cercetare.ubbcluj.ro/event/povestea-junglei-prin-ochii-biologului/
LOCATION:Facultatea de Biologie și  Geologie\, Amfiteatrul de Zoologie\, Str. Clinicilor nr. 5-7\, Cluj-Napoca
END:VEVENT
END:VCALENDAR